BEGIN:VCALENDAR
VERSION:2.0
PRODID:-//eventon.com NONSGML v1.0//EN
CALSCALE:GREGORIAN
METHOD:PUBLISH
BEGIN:VEVENT
UID:69ea373e3e5cb
DTSTAMP:20260423T151406Z
DTSTART:20220531T120000Z
DTEND:20220531T123000Z
LOCATION:
SUMMARY:CivTech Alliance Global Scale-Up Programme! (Copy)
DESCRIPTION:The CivTech Alliance is in the second year of this hugely excit
 ing and highly innovative programme which draws together leading GovTech an
 d CivTech innovation programmes from around the world to deliver a global p
 latform for fast-growth companies to access policymakers\,  procurers and i
 nvestors across regional ecosystems. And from there\,  to[..]\nhttps://oecd
 -opsi.org/blog/events/gsup2-briefing-session-2/
URL:https://oecd-opsi.org/blog/events/gsup2-briefing-session-2/
END:VEVENT
END:VCALENDAR