BEGIN:VCALENDAR
VERSION:2.0
PRODID:-//eventon.com NONSGML v1.0//EN
CALSCALE:GREGORIAN
METHOD:PUBLISH
BEGIN:VEVENT
UID:69e9cf62164c0
DTSTAMP:20260423T075058Z
DTSTART:20220808
DTEND:20220809
LOCATION:
SUMMARY:Brazil Innovation Week 2022
DESCRIPTION:The&nbsp;Innovation Week 2022&nbsp;is a call for action.&nbsp;I
 t is time to create! In its eight edition\,  the event &#8211; which aims t
 o encourage the debate on ideas\,  the sharing of experiences\,  and a more
  disruptive mindset in Public Administration &#8211; will be held in hybrid
  format\,  with in-person activities in Brasilia\, [..]\nhttps://oecd-opsi.
 org/blog/events/brazil-innovation-week-2022/
URL:https://oecd-opsi.org/blog/events/brazil-innovation-week-2022/
END:VEVENT
END:VCALENDAR