BEGIN:VCALENDAR
VERSION:2.0
PRODID:-//eventon.com NONSGML v1.0//EN
CALSCALE:GREGORIAN
METHOD:PUBLISH
BEGIN:VEVENT
UID:69e683b538e2a
DTSTAMP:20260420T195117Z
DTSTART:20221123T110000Z
DTEND:20221123T123000Z
LOCATION:https://meetoecd1.zoom.us/webinar/register/WN_nl3OENs8Tl6QyUg6LXMK4g
SUMMARY:Report Launch: Tackling Policy Challenges Through Public Sector Innovation
DESCRIPTION:Over the last years\,  the Observatory of Public Sector Innovat
 ion (OPSI) has put forward the Public Sector Innovation Facets model that c
 overs four types of innovation – mission-oriented\,  anticipatory\,  adap
 tive\,  and enhancement-oriented innovation – based on the directionality
  and the level of certainty connected to the innovation process. This webin
 ar[..]\nhttps://oecd-opsi.org/blog/events/report-launch-tackling-policy-cha
 llenges-through-public-sector-innovation/
URL:https://oecd-opsi.org/blog/events/report-launch-tackling-policy-challenges-through-public-sector-innovation/
END:VEVENT
END:VCALENDAR