BEGIN:VCALENDAR
VERSION:2.0
PRODID:-//eventon.com NONSGML v1.0//EN
CALSCALE:GREGORIAN
METHOD:PUBLISH
BEGIN:VEVENT
UID:69ecf2712c7c2
DTSTAMP:20260425T165721Z
DTSTART:20221201T090000Z
DTEND:20221213T090000Z
LOCATION:
SUMMARY:BI Connect 2022
DESCRIPTION:The Behavioural Economics Team of the Australian Government (BE
 TA) is proud to be hosting BI Connect\,  a free online behavioural insights
  conference in early December 2022. BI Connect 2022 will involve three onli
 ne sessions: BI Connect 2022 Sessions\,  dark patterns and greenwashing –
  Exposing and addressing deceptive corporate tactics Thursday[..]\nhttps://
 oecd-opsi.org/blog/events/bi-connect-2022/
URL:https://oecd-opsi.org/blog/events/bi-connect-2022/
END:VEVENT
END:VCALENDAR