BEGIN:VCALENDAR
VERSION:2.0
PRODID:-//eventon.com NONSGML v1.0//EN
CALSCALE:GREGORIAN
METHOD:PUBLISH
BEGIN:VEVENT
UID:69eb3e1f1e3bf
DTSTAMP:20260424T095543Z
DTSTART:20230427T113000Z
DTEND:20230427T124500Z
LOCATION:
SUMMARY:The root to all reform
DESCRIPTION:After the impact of the coronavirus and the cost of living sque
 eze\,  government finances are under unprecedented pressure. As a result\, 
  many governments are having to slow increases in public spending and limit
  pay deals for civil servants. At the same time\,  public finance – and t
 he finance ministries that[..]\nhttps://oecd-opsi.org/blog/events/the-root-
 to-all-reform/
URL:https://oecd-opsi.org/blog/events/the-root-to-all-reform/
END:VEVENT
END:VCALENDAR