BEGIN:VCALENDAR
VERSION:2.0
PRODID:-//eventon.com NONSGML v1.0//EN
CALSCALE:GREGORIAN
METHOD:PUBLISH
BEGIN:VEVENT
UID:69eb5727bbf12
DTSTAMP:20260424T114231Z
DTSTART:20230516T113000Z
DTEND:20230516T124500Z
LOCATION:
SUMMARY:Diverse and thrive
DESCRIPTION:Diverse teams are now acknowledged to be critical in creating o
 rganisations that are innovative and responsive at a time of changing needs
 . Many government organisations have set targets to increase the diversity 
 of their workforce across gender\,  ethnicity\,  disability\,  and cognitiv
 e diversity\,  and the US government’s Office of Personnel Management[..]
 \nhttps://oecd-opsi.org/blog/events/diverse-and-thrive/
URL:https://oecd-opsi.org/blog/events/diverse-and-thrive/
END:VEVENT
END:VCALENDAR