BEGIN:VCALENDAR
VERSION:2.0
PRODID:-//eventon.com NONSGML v1.0//EN
CALSCALE:GREGORIAN
METHOD:PUBLISH
BEGIN:VEVENT
UID:69e7cae7d8bb0
DTSTAMP:20260421T190719Z
DTSTART:20230627T133000Z
DTEND:20230627T144500Z
LOCATION:
SUMMARY:AI for all?
DESCRIPTION:The development of artificial intelligence creates opportunitie
 s to automate public sector &nbsp;bureaucracy and improve the delivery of p
 ublic services. However\,  concerns are growing that the use of AI algorith
 ms could also perpetuate and exacerbate existing inequalities and dispariti
 es in society. In particular\,  the United Nation’s Special Rapporteur on
  the rights[..]\nhttps://oecd-opsi.org/blog/events/when-push-comes-to-shove
 /
URL:https://oecd-opsi.org/blog/events/when-push-comes-to-shove/
END:VEVENT
END:VCALENDAR