BEGIN:VCALENDAR
VERSION:2.0
PRODID:-//eventon.com NONSGML v1.0//EN
CALSCALE:GREGORIAN
METHOD:PUBLISH
BEGIN:VEVENT
UID:69e7bfb14494e
DTSTAMP:20260421T181929Z
DTSTART:20230921T113000Z
DTEND:20230921T124500Z
LOCATION:
SUMMARY:Stronger together
DESCRIPTION:Governments face unprecedented challenges in the 21st century. 
 From pandemics to inflation\,  public and civil servants have had to respon
 d to massive challenges at pace – a problem that is set to continue as gl
 obal uncertainty intensifies. As a result\,  governments need to increase t
 heir resilience to match the challenges\, [..]\nhttps://oecd-opsi.org/blog/
 events/stronger-together/
URL:https://oecd-opsi.org/blog/events/stronger-together/
END:VEVENT
END:VCALENDAR