BEGIN:VCALENDAR
VERSION:2.0
PRODID:-//eventon.com NONSGML v1.0//EN
CALSCALE:GREGORIAN
METHOD:PUBLISH
BEGIN:VEVENT
UID:69e7c7b7c35db
DTSTAMP:20260421T185343Z
DTSTART:20230321
DTEND:20230322
LOCATION:
SUMMARY:Innovation 2023
DESCRIPTION:Our annual Innovation conference brings together public service
  innovations from around the world to help governments find solutions to ch
 allenges government face across the policy lifecycle\,  from policy develop
 ment to public service delivery. Finances under pressure\,  few can spend t
 heir way out of problems. But by embracing innovation\,  they can[..]\nhttp
 s://oecd-opsi.org/blog/events/innovation-public-service-2023/
URL:https://oecd-opsi.org/blog/events/innovation-public-service-2023/
END:VEVENT
END:VCALENDAR