BEGIN:VCALENDAR
VERSION:2.0
PRODID:-//eventon.com NONSGML v1.0//EN
CALSCALE:GREGORIAN
METHOD:PUBLISH
BEGIN:VEVENT
UID:69eba6ed0cfb8
DTSTAMP:20260424T172253Z
DTSTART:20230327
DTEND:20230328
LOCATION:
SUMMARY:International Conference on AI in Work\,  Innovation\,  Productivity and Skills
DESCRIPTION:Generative Artificial Intelligence tools such as ChatGPT\,  hav
 e taken the world by storm. They have passed graduate admission tests\,  be
 en used to support court rulings\,  and won art competitions. As technology
  advances and new tools emerge\,  it is essential that governments\,  educa
 tion institutions and businesses understand how to leverage and[..]\nhttps:
 //oecd-opsi.org/blog/events/international-conference-ai-productivity-skills
 /
URL:https://oecd-opsi.org/blog/events/international-conference-ai-productivity-skills/
END:VEVENT
END:VCALENDAR